 BEGIN:VCALENDAR
VERSION:1.0
PRODID:SSPCA Web Calendar
TZ:-07
BEGIN:VEVENT
ORGANIZER:MAILTO: info@bj.adsale.com.hk
SUMMARY;ENCODING=QUOTED-PRINTABLE: China (Guangdong) International Tourism Industry Expo 2011 (CITE 2011)
LOCATION;ENCODING=QUOTED-PRINTABLE: Guangzhou
DESCRIPTION;ENCODING=QUOTED-PRINTABLE: More Details£º=0D=0A
DTSTART:20110902T000000Z 
DTEND:20110905T000000Z 
END:VEVENT
END:VCALENDAR