 BEGIN:VCALENDAR
VERSION:1.0
PRODID:SSPCA Web Calendar
TZ:-07
BEGIN:VEVENT
ORGANIZER:MAILTO: 1377874855@qq.com
SUMMARY;ENCODING=QUOTED-PRINTABLE: 2011 China (Dalian) International Garment & textile Fair (CIGF 2011)
LOCATION;ENCODING=QUOTED-PRINTABLE: Dalian
DESCRIPTION;ENCODING=QUOTED-PRINTABLE: More Details£º=0D=0A
DTSTART:20110903T000000Z 
DTEND:20110906T000000Z 
END:VEVENT
END:VCALENDAR