 BEGIN:VCALENDAR
VERSION:1.0
PRODID:SSPCA Web Calendar
TZ:-07
BEGIN:VEVENT
ORGANIZER:MAILTO: 
SUMMARY;ENCODING=QUOTED-PRINTABLE: The 18 Session Spinexpo-Shanghai
LOCATION;ENCODING=QUOTED-PRINTABLE: Shanghai
DESCRIPTION;ENCODING=QUOTED-PRINTABLE: More Details£º=0D=0Ahttp://chinaexhibition.com/trade_events/690-The_18_Session_Spinexpo-Shanghai.html
DTSTART:20110906T000000Z 
DTEND:20110908T000000Z 
END:VEVENT
END:VCALENDAR