 BEGIN:VCALENDAR
VERSION:1.0
PRODID:SSPCA Web Calendar
TZ:-07
BEGIN:VEVENT
ORGANIZER:MAILTO: sales@aplf.com
SUMMARY;ENCODING=QUOTED-PRINTABLE: All China Leather Exhibition (ACLE 2011)
LOCATION;ENCODING=QUOTED-PRINTABLE: Shanghai
DESCRIPTION;ENCODING=QUOTED-PRINTABLE: More Details£º=0D=0Ahttp://chinaexhibition.com/trade_events/693-All_China_Leather_Exhibition_(ACLE_2011).html
DTSTART:20110906T000000Z 
DTEND:20110908T000000Z 
END:VEVENT
END:VCALENDAR