 BEGIN:VCALENDAR
VERSION:1.0
PRODID:SSPCA Web Calendar
TZ:-07
BEGIN:VEVENT
ORGANIZER:MAILTO: shirly@cioe.cn
SUMMARY;ENCODING=QUOTED-PRINTABLE: The 13th China International Optoelectronic Exposition (CIOE 2011) 
LOCATION;ENCODING=QUOTED-PRINTABLE: Shenzhen
DESCRIPTION;ENCODING=QUOTED-PRINTABLE: More Details£º=0D=0A
DTSTART:20110906T000000Z 
DTEND:20110909T000000Z 
END:VEVENT
END:VCALENDAR