 BEGIN:VCALENDAR
VERSION:1.0
PRODID:SSPCA Web Calendar
TZ:-07
BEGIN:VEVENT
ORGANIZER:MAILTO: cioe_akee@vip.163.com
SUMMARY;ENCODING=QUOTED-PRINTABLE: Led Expo 2011
LOCATION;ENCODING=QUOTED-PRINTABLE: Shenzhen
DESCRIPTION;ENCODING=QUOTED-PRINTABLE: More Details£º=0D=0Ahttp://chinaexhibition.com/trade_events/698-Led_Expo_2011.html
DTSTART:20110906T000000Z 
DTEND:20110909T000000Z 
END:VEVENT
END:VCALENDAR