 BEGIN:VCALENDAR
VERSION:1.0
PRODID:SSPCA Web Calendar
TZ:-07
BEGIN:VEVENT
ORGANIZER:MAILTO: exhibitions@hktdc.org
SUMMARY;ENCODING=QUOTED-PRINTABLE: Hong Kong International Tea Fair
LOCATION;ENCODING=QUOTED-PRINTABLE: Hong Kong
DESCRIPTION;ENCODING=QUOTED-PRINTABLE: More Details£º=0D=0Ahttp://chinaexhibition.com/trade_events/700-Hong_Kong_International_Tea_Fair.html
DTSTART:20110811T000000Z 
DTEND:20110813T000000Z 
END:VEVENT
END:VCALENDAR