 BEGIN:VCALENDAR
VERSION:1.0
PRODID:SSPCA Web Calendar
TZ:-07
BEGIN:VEVENT
ORGANIZER:MAILTO: exhibitions@hktdc.org
SUMMARY;ENCODING=QUOTED-PRINTABLE: HKTDC Food Expo 2011
LOCATION;ENCODING=QUOTED-PRINTABLE: Hong Kong
DESCRIPTION;ENCODING=QUOTED-PRINTABLE: More Details£º=0D=0Ahttp://chinaexhibition.com/trade_events/702-HKTDC_Food_Expo_2011.html
DTSTART:20110811T000000Z 
DTEND:20110815T000000Z 
END:VEVENT
END:VCALENDAR