 BEGIN:VCALENDAR
VERSION:1.0
PRODID:SSPCA Web Calendar
TZ:-07
BEGIN:VEVENT
ORGANIZER:MAILTO: info@ani-com.hk
SUMMARY;ENCODING=QUOTED-PRINTABLE: 2011 â€“ 13th Ani-Com & Games Hong Kong (13th ACGHK 2011)
LOCATION;ENCODING=QUOTED-PRINTABLE: Hong Kong
DESCRIPTION;ENCODING=QUOTED-PRINTABLE: More Details£º=0D=0A
DTSTART:20110729T000000Z 
DTEND:20110802T000000Z 
END:VEVENT
END:VCALENDAR