 BEGIN:VCALENDAR
VERSION:1.0
PRODID:SSPCA Web Calendar
TZ:-07
BEGIN:VEVENT
ORGANIZER:MAILTO: citexpo@reliable.org.cn
SUMMARY;ENCODING=QUOTED-PRINTABLE: The 9th China International Tire Expo (CITEXPO 2011)
LOCATION;ENCODING=QUOTED-PRINTABLE: Shanghai
DESCRIPTION;ENCODING=QUOTED-PRINTABLE: More Details£º=0D=0A
DTSTART:20110907T000000Z 
DTEND:20110909T000000Z 
END:VEVENT
END:VCALENDAR