 BEGIN:VCALENDAR
VERSION:1.0
PRODID:SSPCA Web Calendar
TZ:-07
BEGIN:VEVENT
ORGANIZER:MAILTO: info@biotech-china.com
SUMMARY;ENCODING=QUOTED-PRINTABLE: BIOTECH CHINA 2011
LOCATION;ENCODING=QUOTED-PRINTABLE: Shanghai
DESCRIPTION;ENCODING=QUOTED-PRINTABLE: More Details£º=0D=0Ahttp://chinaexhibition.com/trade_events/711-BIOTECH_CHINA_2011.html
DTSTART:20110907T000000Z 
DTEND:20110909T000000Z 
END:VEVENT
END:VCALENDAR