 BEGIN:VCALENDAR
VERSION:1.0
PRODID:SSPCA Web Calendar
TZ:-07
BEGIN:VEVENT
ORGANIZER:MAILTO: invent@taitra.org.tw
SUMMARY;ENCODING=QUOTED-PRINTABLE: 2011 Taipei International Invention Show & Technomart (INST Taipei 2011) 
LOCATION;ENCODING=QUOTED-PRINTABLE: Taipei
DESCRIPTION;ENCODING=QUOTED-PRINTABLE: More Details£º=0D=0A
DTSTART:20110929T000000Z 
DTEND:20111002T000000Z 
END:VEVENT
END:VCALENDAR