 BEGIN:VCALENDAR
VERSION:1.0
PRODID:SSPCA Web Calendar
TZ:-07
BEGIN:VEVENT
ORGANIZER:MAILTO: TAITRONICS@taitra.org.tw
SUMMARY;ENCODING=QUOTED-PRINTABLE: Broadband Taiwan 2011
LOCATION;ENCODING=QUOTED-PRINTABLE: Taipei
DESCRIPTION;ENCODING=QUOTED-PRINTABLE: More Details£º=0D=0Ahttp://chinaexhibition.com/trade_events/722-Broadband_Taiwan_2011.html
DTSTART:20111010T000000Z 
DTEND:20111013T000000Z 
END:VEVENT
END:VCALENDAR