 BEGIN:VCALENDAR
VERSION:1.0
PRODID:SSPCA Web Calendar
TZ:-07
BEGIN:VEVENT
ORGANIZER:MAILTO: info@aiexpo.com.cn
SUMMARY;ENCODING=QUOTED-PRINTABLE: SIPEE 2015 - 2015 Shanghai International Petrochemical Electric Heating Equipment Exhibition
LOCATION;ENCODING=QUOTED-PRINTABLE: Shanghai
DESCRIPTION;ENCODING=QUOTED-PRINTABLE: More Details£º=0D=0A
DTSTART:20151124T000000Z 
DTEND:20151126T000000Z 
END:VEVENT
END:VCALENDAR