 BEGIN:VCALENDAR
VERSION:1.0
PRODID:SSPCA Web Calendar
TZ:-07
BEGIN:VEVENT
ORGANIZER:MAILTO: pchi@reedsinopharm.com
SUMMARY;ENCODING=QUOTED-PRINTABLE: Personal Care & Homecare Ingredients (PCHi)
LOCATION;ENCODING=QUOTED-PRINTABLE: Shanghai
DESCRIPTION;ENCODING=QUOTED-PRINTABLE: More Details£º=0D=0Ahttp://chinaexhibition.com/trade_events/728-Personal_Care_and_Homecare_Ingredients_(PCHi).html
DTSTART:20120227T000000Z 
DTEND:20120229T000000Z 
END:VEVENT
END:VCALENDAR