 BEGIN:VCALENDAR
VERSION:1.0
PRODID:SSPCA Web Calendar
TZ:-07
BEGIN:VEVENT
ORGANIZER:MAILTO: james.wang@reedexpo.com.cn; karen.fu@reedexpo.com.cn
SUMMARY;ENCODING=QUOTED-PRINTABLE: ISC CHINA
LOCATION;ENCODING=QUOTED-PRINTABLE: Shanghai
DESCRIPTION;ENCODING=QUOTED-PRINTABLE: More Details£º=0D=0Ahttp://chinaexhibition.com/trade_events/729-ISC_CHINA.html
DTSTART:20120227T000000Z 
DTEND:20120229T000000Z 
END:VEVENT
END:VCALENDAR