 BEGIN:VCALENDAR
VERSION:1.0
PRODID:SSPCA Web Calendar
TZ:-07
BEGIN:VEVENT
ORGANIZER:MAILTO: gtang@breakbulk.com
SUMMARY;ENCODING=QUOTED-PRINTABLE: Breakbulk China 2012 (Breakbulk Transportation Conferences & Exhibitions)
LOCATION;ENCODING=QUOTED-PRINTABLE: Shanghai
DESCRIPTION;ENCODING=QUOTED-PRINTABLE: More Details£º=0D=0A
DTSTART:20120228T000000Z 
DTEND:20120301T000000Z 
END:VEVENT
END:VCALENDAR