 BEGIN:VCALENDAR
VERSION:1.0
PRODID:SSPCA Web Calendar
TZ:-07
BEGIN:VEVENT
ORGANIZER:MAILTO: crystal@ste.cn; emma@ste.cn
SUMMARY;ENCODING=QUOTED-PRINTABLE: The 10th China (Guangzhou) International Expo on Pro Sound & Light 2012
LOCATION;ENCODING=QUOTED-PRINTABLE: Guangzhou
DESCRIPTION;ENCODING=QUOTED-PRINTABLE: More Details£º=0D=0A
DTSTART:20120229T000000Z 
DTEND:20120303T000000Z 
END:VEVENT
END:VCALENDAR