 BEGIN:VCALENDAR
VERSION:1.0
PRODID:SSPCA Web Calendar
TZ:-07
BEGIN:VEVENT
ORGANIZER:MAILTO: 
SUMMARY;ENCODING=QUOTED-PRINTABLE: HEC 2015 - The 17th Hobby Expo China 2015 (Shenzhen)
LOCATION;ENCODING=QUOTED-PRINTABLE: Shenzhen
DESCRIPTION;ENCODING=QUOTED-PRINTABLE: More Details£º=0D=0A
DTSTART:20151113T000000Z 
DTEND:20151115T000000Z 
END:VEVENT
END:VCALENDAR