 BEGIN:VCALENDAR
VERSION:1.0
PRODID:SSPCA Web Calendar
TZ:-07
BEGIN:VEVENT
ORGANIZER:MAILTO: swop@mds.cn;swop@ccfdie.org
SUMMARY;ENCODING=QUOTED-PRINTABLE: CHINA-PHARM 2015 - The 20th China International Pharmaceutical and Cosmetic Industry Exhibition
LOCATION;ENCODING=QUOTED-PRINTABLE: Shanghai
DESCRIPTION;ENCODING=QUOTED-PRINTABLE: More Details£º=0D=0A
DTSTART:20151117T000000Z 
DTEND:20151120T000000Z 
END:VEVENT
END:VCALENDAR