 BEGIN:VCALENDAR
VERSION:1.0
PRODID:SSPCA Web Calendar
TZ:-07
BEGIN:VEVENT
ORGANIZER:MAILTO: Victoria.Zhao@iRecyclingTimes.com;Joy.He@iRecyclingTimes.com
SUMMARY;ENCODING=QUOTED-PRINTABLE: World Toner Conference 2015
LOCATION;ENCODING=QUOTED-PRINTABLE: Wuhan
DESCRIPTION;ENCODING=QUOTED-PRINTABLE: More Details£º=0D=0Ahttp://chinaexhibition.com/trade_events/7448-World_Toner_Conference_2015.html
DTSTART:20150409T000000Z 
DTEND:20150410T000000Z 
END:VEVENT
END:VCALENDAR