 BEGIN:VCALENDAR
VERSION:1.0
PRODID:SSPCA Web Calendar
TZ:-07
BEGIN:VEVENT
ORGANIZER:MAILTO: castor@castor-oils.com
SUMMARY;ENCODING=QUOTED-PRINTABLE: China Castor Conference 2011 
LOCATION;ENCODING=QUOTED-PRINTABLE: Tongliao
DESCRIPTION;ENCODING=QUOTED-PRINTABLE: More Details£º=0D=0Ahttp://chinaexhibition.com/trade_events/751-China_Castor_Conference_2011_.html
DTSTART:20110814T000000Z 
DTEND:20110816T000000Z 
END:VEVENT
END:VCALENDAR