 BEGIN:VCALENDAR
VERSION:1.0
PRODID:SSPCA Web Calendar
TZ:-07
BEGIN:VEVENT
ORGANIZER:MAILTO: haiwen_guoqinyi@163.com
SUMMARY;ENCODING=QUOTED-PRINTABLE: CIME 2016 - China (Beijing) International Mining Expo 2016
LOCATION;ENCODING=QUOTED-PRINTABLE: Beijing
DESCRIPTION;ENCODING=QUOTED-PRINTABLE: More Details£º=0D=0A
DTSTART:20160530T000000Z 
DTEND:20160601T000000Z 
END:VEVENT
END:VCALENDAR