 BEGIN:VCALENDAR
VERSION:1.0
PRODID:SSPCA Web Calendar
TZ:-07
BEGIN:VEVENT
ORGANIZER:MAILTO: ciipc5@chinafair.org.cn
SUMMARY;ENCODING=QUOTED-PRINTABLE: The 15th China International Fair for Investment & Trade (CIFIT 2011)
LOCATION;ENCODING=QUOTED-PRINTABLE: Xiamen
DESCRIPTION;ENCODING=QUOTED-PRINTABLE: More Details£º=0D=0A
DTSTART:20110908T000000Z 
DTEND:20110911T000000Z 
END:VEVENT
END:VCALENDAR