 BEGIN:VCALENDAR
VERSION:1.0
PRODID:SSPCA Web Calendar
TZ:-07
BEGIN:VEVENT
ORGANIZER:MAILTO: publicity@adsale.com.hk
SUMMARY;ENCODING=QUOTED-PRINTABLE: Sino-Label 2012
LOCATION;ENCODING=QUOTED-PRINTABLE: Guangzhou
DESCRIPTION;ENCODING=QUOTED-PRINTABLE: More Details£º=0D=0Ahttp://chinaexhibition.com/trade_events/766-Sino-Label_2012.html
DTSTART:20120307T000000Z 
DTEND:20120309T000000Z 
END:VEVENT
END:VCALENDAR