 BEGIN:VCALENDAR
VERSION:1.0
PRODID:SSPCA Web Calendar
TZ:-07
BEGIN:VEVENT
ORGANIZER:MAILTO: CIE@chinaallworld.com
SUMMARY;ENCODING=QUOTED-PRINTABLE: CosmeticTek China 2016 - The 2nd International Cosmetic Processing Technology Exhibition
LOCATION;ENCODING=QUOTED-PRINTABLE: Shanghai
DESCRIPTION;ENCODING=QUOTED-PRINTABLE: More Details£º=0D=0A
DTSTART:20160713T000000Z 
DTEND:20160715T000000Z 
END:VEVENT
END:VCALENDAR