 BEGIN:VCALENDAR
VERSION:1.0
PRODID:SSPCA Web Calendar
TZ:-07
BEGIN:VEVENT
ORGANIZER:MAILTO: publicity@adsale.com.hk
SUMMARY;ENCODING=QUOTED-PRINTABLE: Printing South China 2012 (The South China International Printing Industry Exhibition)
LOCATION;ENCODING=QUOTED-PRINTABLE: Guangzhou
DESCRIPTION;ENCODING=QUOTED-PRINTABLE: More Details£º=0D=0A
DTSTART:20120307T000000Z 
DTEND:20120309T000000Z 
END:VEVENT
END:VCALENDAR