 BEGIN:VCALENDAR
VERSION:1.0
PRODID:SSPCA Web Calendar
TZ:-07
BEGIN:VEVENT
ORGANIZER:MAILTO: computex@taitra.org.tw; suelu@taitra.org.tw
SUMMARY;ENCODING=QUOTED-PRINTABLE: COMPUTEX TAIPEI 2016
LOCATION;ENCODING=QUOTED-PRINTABLE: Taipei
DESCRIPTION;ENCODING=QUOTED-PRINTABLE: More Details£º=0D=0Ahttp://chinaexhibition.com/trade_events/7816-COMPUTEX_TAIPEI_2016.html
DTSTART:20160531T000000Z 
DTEND:20160604T000000Z 
END:VEVENT
END:VCALENDAR