 BEGIN:VCALENDAR
VERSION:1.0
PRODID:SSPCA Web Calendar
TZ:-07
BEGIN:VEVENT
ORGANIZER:MAILTO: jinx@ccpitbm.org
SUMMARY;ENCODING=QUOTED-PRINTABLE: CEMENTTECH 2016 - The 17th China International Cement Industry Exhibition 2016
LOCATION;ENCODING=QUOTED-PRINTABLE: Nanjing
DESCRIPTION;ENCODING=QUOTED-PRINTABLE: More Details£º=0D=0A
DTSTART:20160512T000000Z 
DTEND:20160514T000000Z 
END:VEVENT
END:VCALENDAR