 BEGIN:VCALENDAR
VERSION:1.0
PRODID:SSPCA Web Calendar
TZ:-07
BEGIN:VEVENT
ORGANIZER:MAILTO: cathy.he@coffeexpo.org;vip@gzspz.com,coffeexpo@qq.com
SUMMARY;ENCODING=QUOTED-PRINTABLE: Coffeexpo 2016 - China (Guangzhou) International Coffee Industry Expo 2016
LOCATION;ENCODING=QUOTED-PRINTABLE: Guangzhou
DESCRIPTION;ENCODING=QUOTED-PRINTABLE: More Details£º=0D=0A
DTSTART:20160629T000000Z 
DTEND:20160701T000000Z 
END:VEVENT
END:VCALENDAR