 BEGIN:VCALENDAR
VERSION:1.0
PRODID:SSPCA Web Calendar
TZ:-07
BEGIN:VEVENT
ORGANIZER:MAILTO: fhy@ceiec.com.cn;zhangyuan@ceiec.com.cn
SUMMARY;ENCODING=QUOTED-PRINTABLE: CIDEX 2016- The 10th China International Defence Electronics Exhibition
LOCATION;ENCODING=QUOTED-PRINTABLE: Beijing
DESCRIPTION;ENCODING=QUOTED-PRINTABLE: More Details£º=0D=0A
DTSTART:20160511T000000Z 
DTEND:20160513T000000Z 
END:VEVENT
END:VCALENDAR