 BEGIN:VCALENDAR
VERSION:1.0
PRODID:SSPCA Web Calendar
TZ:-07
BEGIN:VEVENT
ORGANIZER:MAILTO: zyh@zhenweiexpo.com
SUMMARY;ENCODING=QUOTED-PRINTABLE: Luxury China 2016
LOCATION;ENCODING=QUOTED-PRINTABLE: Beijing
DESCRIPTION;ENCODING=QUOTED-PRINTABLE: More Details£º=0D=0Ahttp://chinaexhibition.com/trade_events/8041-Luxury_China_2016.html
DTSTART:20160506T000000Z 
DTEND:20160508T000000Z 
END:VEVENT
END:VCALENDAR