 BEGIN:VCALENDAR
VERSION:1.0
PRODID:SSPCA Web Calendar
TZ:-07
BEGIN:VEVENT
ORGANIZER:MAILTO: angelina@gzshading.cn;ava@gzshading.cn
SUMMARY;ENCODING=QUOTED-PRINTABLE: Gz Shading 2016 - 2016 Guangzhou Shading & Window-Door Exhibition
LOCATION;ENCODING=QUOTED-PRINTABLE: Guangzhou
DESCRIPTION;ENCODING=QUOTED-PRINTABLE: More Details£º=0D=0A
DTSTART:20160708T000000Z 
DTEND:20160710T000000Z 
END:VEVENT
END:VCALENDAR