 BEGIN:VCALENDAR
VERSION:1.0
PRODID:SSPCA Web Calendar
TZ:-07
BEGIN:VEVENT
ORGANIZER:MAILTO: chinawoodexpo@hotmail.com
SUMMARY;ENCODING=QUOTED-PRINTABLE: Woodexpo Shanghai 2016 - 2016 China Imported Wood (Shanghai) Exhibition
LOCATION;ENCODING=QUOTED-PRINTABLE: Shanghai
DESCRIPTION;ENCODING=QUOTED-PRINTABLE: More Details£º=0D=0A
DTSTART:20160705T000000Z 
DTEND:20160707T000000Z 
END:VEVENT
END:VCALENDAR