 BEGIN:VCALENDAR
VERSION:1.0
PRODID:SSPCA Web Calendar
TZ:-07
BEGIN:VEVENT
ORGANIZER:MAILTO: expoart@vip.163.com
SUMMARY;ENCODING=QUOTED-PRINTABLE: Paper Expo China 2016 - The 13th International Paper Expo China 2016
LOCATION;ENCODING=QUOTED-PRINTABLE: Guangzhou
DESCRIPTION;ENCODING=QUOTED-PRINTABLE: More Details£º=0D=0A
DTSTART:20160519T000000Z 
DTEND:20160521T000000Z 
END:VEVENT
END:VCALENDAR