 BEGIN:VCALENDAR
VERSION:1.0
PRODID:SSPCA Web Calendar
TZ:-07
BEGIN:VEVENT
ORGANIZER:MAILTO: zy@zhenweiexpo.com
SUMMARY;ENCODING=QUOTED-PRINTABLE: OPIE 2016 - The 7th Overseas Property & Immigration Exhibition
LOCATION;ENCODING=QUOTED-PRINTABLE: Beijing
DESCRIPTION;ENCODING=QUOTED-PRINTABLE: More Details£º=0D=0A
DTSTART:20160506T000000Z 
DTEND:20160508T000000Z 
END:VEVENT
END:VCALENDAR