 BEGIN:VCALENDAR
VERSION:1.0
PRODID:SSPCA Web Calendar
TZ:-07
BEGIN:VEVENT
ORGANIZER:MAILTO: info@comexposium.com
SUMMARY;ENCODING=QUOTED-PRINTABLE: SIAL China 2016
LOCATION;ENCODING=QUOTED-PRINTABLE: Shanghai
DESCRIPTION;ENCODING=QUOTED-PRINTABLE: More Details£º=0D=0Ahttp://chinaexhibition.com/trade_events/8176-SIAL_China_2016.html
DTSTART:20160505T000000Z 
DTEND:20160507T000000Z 
END:VEVENT
END:VCALENDAR