 BEGIN:VCALENDAR
VERSION:1.0
PRODID:SSPCA Web Calendar
TZ:-07
BEGIN:VEVENT
ORGANIZER:MAILTO: cafeshowchina@cafeshow.com;xinxin@ciec.com.cn;zhangshu@ciec.com.cn
SUMMARY;ENCODING=QUOTED-PRINTABLE: Cafe Show China 2016
LOCATION;ENCODING=QUOTED-PRINTABLE: Beijing
DESCRIPTION;ENCODING=QUOTED-PRINTABLE: More Details£º=0D=0Ahttp://chinaexhibition.com/trade_events/8268-Cafe_Show_China_2016.html
DTSTART:20160708T000000Z 
DTEND:20160710T000000Z 
END:VEVENT
END:VCALENDAR