 BEGIN:VCALENDAR
VERSION:1.0
PRODID:SSPCA Web Calendar
TZ:-07
BEGIN:VEVENT
ORGANIZER:MAILTO: Darren.Kong@hmf-china.com;Vicky.Huang@hmf-china.com
SUMMARY;ENCODING=QUOTED-PRINTABLE: Industrial Supply Asia 2016
LOCATION;ENCODING=QUOTED-PRINTABLE: Shanghai
DESCRIPTION;ENCODING=QUOTED-PRINTABLE: More Details£º=0D=0Ahttp://chinaexhibition.com/trade_events/8284-Industrial_Supply_Asia_2016.html
DTSTART:20161101T000000Z 
DTEND:20161104T000000Z 
END:VEVENT
END:VCALENDAR