 BEGIN:VCALENDAR
VERSION:1.0
PRODID:SSPCA Web Calendar
TZ:-07
BEGIN:VEVENT
ORGANIZER:MAILTO: Crystal.Yang@ubm.com
SUMMARY;ENCODING=QUOTED-PRINTABLE: E-commerce Expo China 2011
LOCATION;ENCODING=QUOTED-PRINTABLE: Shanghai
DESCRIPTION;ENCODING=QUOTED-PRINTABLE: More Details£º=0D=0Ahttp://chinaexhibition.com/trade_events/837-E-commerce_Expo_China_2011.html
DTSTART:20110811T000000Z 
DTEND:20110811T000000Z 
END:VEVENT
END:VCALENDAR