 BEGIN:VCALENDAR
VERSION:1.0
PRODID:SSPCA Web Calendar
TZ:-07
BEGIN:VEVENT
ORGANIZER:MAILTO: hh@zhenweiexpo.com;ldm@zhenweiexpo.com
SUMMARY;ENCODING=QUOTED-PRINTABLE: CIPFE 2016 - Beijing International Import Food Expo 2016
LOCATION;ENCODING=QUOTED-PRINTABLE: Beijing
DESCRIPTION;ENCODING=QUOTED-PRINTABLE: More Details£º=0D=0A
DTSTART:20160506T000000Z 
DTEND:20160508T000000Z 
END:VEVENT
END:VCALENDAR