 BEGIN:VCALENDAR
VERSION:1.0
PRODID:SSPCA Web Calendar
TZ:-07
BEGIN:VEVENT
ORGANIZER:MAILTO: Hongkong@affordableartfair.com
SUMMARY;ENCODING=QUOTED-PRINTABLE: Affordable Art Fair Hong Kong 2016
LOCATION;ENCODING=QUOTED-PRINTABLE: Hong Kong
DESCRIPTION;ENCODING=QUOTED-PRINTABLE: More Details£º=0D=0Ahttp://chinaexhibition.com/trade_events/8388-Affordable_Art_Fair_Hong_Kong_2016.html
DTSTART:20160513T000000Z 
DTEND:20160515T000000Z 
END:VEVENT
END:VCALENDAR