 BEGIN:VCALENDAR
VERSION:1.0
PRODID:SSPCA Web Calendar
TZ:-07
BEGIN:VEVENT
ORGANIZER:MAILTO: 
SUMMARY;ENCODING=QUOTED-PRINTABLE: The 6th BioFach (BioFach China 2012)
LOCATION;ENCODING=QUOTED-PRINTABLE: Shanghai
DESCRIPTION;ENCODING=QUOTED-PRINTABLE: More Details£º=0D=0Ahttp://chinaexhibition.com/trade_events/840-The_6th_BioFach_(BioFach_China_2012).html
DTSTART:20120524T000000Z 
DTEND:20120526T000000Z 
END:VEVENT
END:VCALENDAR