 BEGIN:VCALENDAR
VERSION:1.0
PRODID:SSPCA Web Calendar
TZ:-07
BEGIN:VEVENT
ORGANIZER:MAILTO: crystal.zhu@mmi-shanghai.com
SUMMARY;ENCODING=QUOTED-PRINTABLE: ISPO SHANGHAI 2016
LOCATION;ENCODING=QUOTED-PRINTABLE: Shanghai
DESCRIPTION;ENCODING=QUOTED-PRINTABLE: More Details£º=0D=0Ahttp://chinaexhibition.com/trade_events/8453-ISPO_SHANGHAI_2016.html
DTSTART:20160608T000000Z 
DTEND:20160610T000000Z 
END:VEVENT
END:VCALENDAR