 BEGIN:VCALENDAR
VERSION:1.0
PRODID:SSPCA Web Calendar
TZ:-07
BEGIN:VEVENT
ORGANIZER:MAILTO: ashley.lin@ubmsinoexpo.com
SUMMARY;ENCODING=QUOTED-PRINTABLE: P-Logi 2017 - International Pharma Logistics Exhibition 2017
LOCATION;ENCODING=QUOTED-PRINTABLE: Shanghai
DESCRIPTION;ENCODING=QUOTED-PRINTABLE: More Details£º=0D=0A
DTSTART:20170620T000000Z 
DTEND:20170622T000000Z 
END:VEVENT
END:VCALENDAR