 BEGIN:VCALENDAR
VERSION:1.0
PRODID:SSPCA Web Calendar
TZ:-07
BEGIN:VEVENT
ORGANIZER:MAILTO: 
SUMMARY;ENCODING=QUOTED-PRINTABLE: The 6th SAMPE China Conference and Exhibition (SAMPE 2011)
LOCATION;ENCODING=QUOTED-PRINTABLE: Tianjin
DESCRIPTION;ENCODING=QUOTED-PRINTABLE: More Details£º=0D=0A
DTSTART:20111026T000000Z 
DTEND:20111028T000000Z 
END:VEVENT
END:VCALENDAR