 BEGIN:VCALENDAR
VERSION:1.0
PRODID:SSPCA Web Calendar
TZ:-07
BEGIN:VEVENT
ORGANIZER:MAILTO: info@waterexpocn.com
SUMMARY;ENCODING=QUOTED-PRINTABLE: WaterExpo 2017 - China (Guangzhou) International High-end Drinking Water Industry Expo 2017
LOCATION;ENCODING=QUOTED-PRINTABLE: Guangzhou
DESCRIPTION;ENCODING=QUOTED-PRINTABLE: More Details£º=0D=0A
DTSTART:20170616T000000Z 
DTEND:20170618T000000Z 
END:VEVENT
END:VCALENDAR