 BEGIN:VCALENDAR
VERSION:1.0
PRODID:SSPCA Web Calendar
TZ:-07
BEGIN:VEVENT
ORGANIZER:MAILTO: huangxiaotie@phmacn.com;kejia@phmacn.com
SUMMARY;ENCODING=QUOTED-PRINTABLE: CIPM (Autumm) 2016 - The 52nd China International Pharmaceutical Machinery Exposition
LOCATION;ENCODING=QUOTED-PRINTABLE: Fuzhou
DESCRIPTION;ENCODING=QUOTED-PRINTABLE: More Details£º=0D=0A
DTSTART:20161105T000000Z 
DTEND:20161108T000000Z 
END:VEVENT
END:VCALENDAR