 BEGIN:VCALENDAR
VERSION:1.0
PRODID:SSPCA Web Calendar
TZ:-07
BEGIN:VEVENT
ORGANIZER:MAILTO: exhibit@mail.pida.org.tw
SUMMARY;ENCODING=QUOTED-PRINTABLE: Display Taiwan 2017 - The 19th International Flat Panel Display Exposition
LOCATION;ENCODING=QUOTED-PRINTABLE: Taipei
DESCRIPTION;ENCODING=QUOTED-PRINTABLE: More Details£º=0D=0A
DTSTART:20170614T000000Z 
DTEND:20170616T000000Z 
END:VEVENT
END:VCALENDAR