 BEGIN:VCALENDAR
VERSION:1.0
PRODID:SSPCA Web Calendar
TZ:-07
BEGIN:VEVENT
ORGANIZER:MAILTO: Paul.chen@ubmsinoexpo.com
SUMMARY;ENCODING=QUOTED-PRINTABLE: Expo Food Guangzhou 2017
LOCATION;ENCODING=QUOTED-PRINTABLE: Guangzhou
DESCRIPTION;ENCODING=QUOTED-PRINTABLE: More Details£º=0D=0Ahttp://chinaexhibition.com/trade_events/9223-Expo_Food_Guangzhou_2017.html
DTSTART:20170614T000000Z 
DTEND:20170617T000000Z 
END:VEVENT
END:VCALENDAR